BEGIN:VCALENDAR
VERSION:2.0
PRODID:-//Deploy 2024 - ECPv6.15.20//NONSGML v1.0//EN
CALSCALE:GREGORIAN
METHOD:PUBLISH
X-WR-CALNAME:Deploy 2024
X-ORIGINAL-URL:https://deploytogether.com
X-WR-CALDESC:Events for Deploy 2024
REFRESH-INTERVAL;VALUE=DURATION:PT1H
X-Robots-Tag:noindex
X-PUBLISHED-TTL:PT1H
BEGIN:VTIMEZONE
TZID:America/New_York
BEGIN:DAYLIGHT
TZOFFSETFROM:-0500
TZOFFSETTO:-0400
TZNAME:EDT
DTSTART:20230312T070000
END:DAYLIGHT
BEGIN:STANDARD
TZOFFSETFROM:-0400
TZOFFSETTO:-0500
TZNAME:EST
DTSTART:20231105T060000
END:STANDARD
BEGIN:DAYLIGHT
TZOFFSETFROM:-0500
TZOFFSETTO:-0400
TZNAME:EDT
DTSTART:20240310T070000
END:DAYLIGHT
BEGIN:STANDARD
TZOFFSETFROM:-0400
TZOFFSETTO:-0500
TZNAME:EST
DTSTART:20241103T060000
END:STANDARD
BEGIN:DAYLIGHT
TZOFFSETFROM:-0500
TZOFFSETTO:-0400
TZNAME:EDT
DTSTART:20250309T070000
END:DAYLIGHT
BEGIN:STANDARD
TZOFFSETFROM:-0400
TZOFFSETTO:-0500
TZNAME:EST
DTSTART:20251102T060000
END:STANDARD
END:VTIMEZONE
BEGIN:VEVENT
DTSTART;TZID=America/New_York:20241205T103000
DTEND;TZID=America/New_York:20241205T120000
DTSTAMP:20260424T194546
CREATED:20241204T004118Z
LAST-MODIFIED:20241204T010323Z
UID:10000090-1733394600-1733400000@deploytogether.com
SUMMARY:Meetups
DESCRIPTION:Meetups are spaces to continue conversation and engagement on accelerating the deployment of critical energy and decarbonization technologies in the United States. \n  \n\n10:30 – 11:00AM \nUnlocking Financing for SAF\nTopic: SAF\n\n\n11:00 – 11:30AM \nClean Hydrogen Moving Forward\nTopic: Hydrogen\n\n\n11:30 – 12:00PM \nGrowing the Voluntary Carbon Market\nTopic: Carbon Markets
URL:https://deploytogether.com/session/meetups-3/
LOCATION:Meetup Cubes
CATEGORIES:The Exchange
ATTACH;FMTTYPE=image/png:https://deploytogether.com/wp-content/uploads/Exchange-OfficeHours-pg-scaled.png
END:VEVENT
BEGIN:VEVENT
DTSTART;TZID=America/New_York:20241204T173000
DTEND;TZID=America/New_York:20241204T190000
DTSTAMP:20260424T194546
CREATED:20241204T003617Z
LAST-MODIFIED:20241204T010332Z
UID:10000089-1733333400-1733338800@deploytogether.com
SUMMARY:Meetups
DESCRIPTION:Meetups are spaces to continue conversation and engagement on accelerating the deployment of critical energy and decarbonization technologies in the United States. \n  \n\n5:30 – 6:00PM \nPower of Hydro and Transmission\nTopic: Hydropower\n\n\n6:00 – 6:30PM \nNuclear Networking\nTopic: Nuclear\n\n\n6:30 – 7:00PM \nCarbon Removal Technologies\nTopic: Carbon Removal
URL:https://deploytogether.com/session/meetups-2/
LOCATION:Meetup Cubes
CATEGORIES:The Exchange
ATTACH;FMTTYPE=image/png:https://deploytogether.com/wp-content/uploads/Exchange-OfficeHours-pg-scaled.png
END:VEVENT
BEGIN:VEVENT
DTSTART;TZID=America/New_York:20241204T120000
DTEND;TZID=America/New_York:20241204T130000
DTSTAMP:20260424T194546
CREATED:20241204T003408Z
LAST-MODIFIED:20241204T010340Z
UID:10000088-1733313600-1733317200@deploytogether.com
SUMMARY:Meetups
DESCRIPTION:Meetups are spaces to continue conversation and engagement on accelerating the deployment of critical energy and decarbonization technologies in the United States. \n  \n\n12:00 – 12:30PM \nDerisk your Project through Community Benefit Plans\nTopic: Community Benefit\n\n\n12:30 – 1:00PM \nEnergy and Tech: Shared Load\, Shared Opportunities\nTopic: Load Growth
URL:https://deploytogether.com/session/meetups/
LOCATION:Meetup Cubes
CATEGORIES:The Exchange
ATTACH;FMTTYPE=image/png:https://deploytogether.com/wp-content/uploads/Exchange-OfficeHours-pg-scaled.png
END:VEVENT
END:VCALENDAR